BEGIN:VCALENDAR
VERSION:2.0
PRODID:-//Estefanía de Paz Asín - ECPv6.13.2.1//NONSGML v1.0//EN
CALSCALE:GREGORIAN
METHOD:PUBLISH
X-ORIGINAL-URL:https://estefaniadepazasin.com
X-WR-CALDESC:Eventos para Estefanía de Paz Asín
REFRESH-INTERVAL;VALUE=DURATION:PT1H
X-Robots-Tag:noindex
X-PUBLISHED-TTL:PT1H
BEGIN:VTIMEZONE
TZID:Europe/Madrid
BEGIN:DAYLIGHT
TZOFFSETFROM:+0100
TZOFFSETTO:+0200
TZNAME:CEST
DTSTART:20240331T010000
END:DAYLIGHT
BEGIN:STANDARD
TZOFFSETFROM:+0200
TZOFFSETTO:+0100
TZNAME:CET
DTSTART:20241027T010000
END:STANDARD
END:VTIMEZONE
BEGIN:VEVENT
DTSTART;TZID=Europe/Madrid:20240907T210000
DTEND;TZID=Europe/Madrid:20240907T220000
DTSTAMP:20260421T180111
CREATED:20240802T105758Z
LAST-MODIFIED:20240802T110740Z
UID:2704-1725742800-1725746400@estefaniadepazasin.com
SUMMARY:La Reina del Arga [Espectáculo]. VI FESTIVAL INTERNACIONAL DE MUJERES CREADORAS CASTILLA Y LEÓN
DESCRIPTION:Entrada: 6€ \nDisponibles en el siguiente enlace: https://creadorascastillayleon.es/festival-mujeres-creadoras-programa-2024/2024-la-reina-de-arga/
URL:https://estefaniadepazasin.com/evento/la-reina-del-arga-vi-festival-internacional-de-mujeres-creadoras-castilla-y-leon/
LOCATION:Covarrubias\, Huerto de Dios\, Covarrubias\, Burgos\, 09346\, España
CATEGORIES:La Reina del Arga –EL ESPECTÁCULO–
ATTACH;FMTTYPE=image/jpeg:https://estefaniadepazasin.com/wp-content/uploads/2024/01/cartel-teatro-reina-del-arga-digital2023-02.jpg
END:VEVENT
BEGIN:VEVENT
DTSTART;TZID=Europe/Madrid:20240914T190000
DTEND;TZID=Europe/Madrid:20240914T190000
DTSTAMP:20260421T180111
CREATED:20240802T110012Z
LAST-MODIFIED:20240802T110718Z
UID:2707-1726340400-1726340400@estefaniadepazasin.com
SUMMARY:La Reina del Arga [Espectáculo] BERBINZANA
DESCRIPTION:Horario por confirmar.
URL:https://estefaniadepazasin.com/evento/la-reina-del-arga-berbinzana/
CATEGORIES:La Reina del Arga –EL ESPECTÁCULO–
ATTACH;FMTTYPE=image/jpeg:https://estefaniadepazasin.com/wp-content/uploads/2024/01/cartel-teatro-reina-del-arga-digital2023-02.jpg
END:VEVENT
BEGIN:VEVENT
DTSTART;TZID=Europe/Madrid:20240918T190000
DTEND;TZID=Europe/Madrid:20240918T190000
DTSTAMP:20260421T180111
CREATED:20240603T095222Z
LAST-MODIFIED:20240603T095222Z
UID:2677-1726686000-1726686000@estefaniadepazasin.com
SUMMARY:La Reina del Arga [Espectáculo] ESZENA KALERA
DESCRIPTION:
URL:https://estefaniadepazasin.com/evento/la-reina-del-arga-espectaculo-eszena-kalera/
LOCATION:Zurvaranbarri Plaza Panera\, ZURBARANBARRI PLAZA PANERA\, Bilbao\, Bizkaia\, 48007\, España
CATEGORIES:La Reina del Arga –EL ESPECTÁCULO–
ATTACH;FMTTYPE=image/jpeg:https://estefaniadepazasin.com/wp-content/uploads/2024/01/cartel-teatro-reina-del-arga-digital2023-02.jpg
END:VEVENT
END:VCALENDAR